BEGIN:VCALENDAR
VERSION:2.0
PRODID:-//Rolling Gait Canine Centre - ECPv6.15.20//NONSGML v1.0//EN
CALSCALE:GREGORIAN
METHOD:PUBLISH
X-WR-CALNAME:Rolling Gait Canine Centre
X-ORIGINAL-URL:https://rollinggaitcaninecentre.ca
X-WR-CALDESC:Events for Rolling Gait Canine Centre
REFRESH-INTERVAL;VALUE=DURATION:PT1H
X-Robots-Tag:noindex
X-PUBLISHED-TTL:PT1H
BEGIN:VTIMEZONE
TZID:America/Toronto
BEGIN:DAYLIGHT
TZOFFSETFROM:-0500
TZOFFSETTO:-0400
TZNAME:EDT
DTSTART:20250309T070000
END:DAYLIGHT
BEGIN:STANDARD
TZOFFSETFROM:-0400
TZOFFSETTO:-0500
TZNAME:EST
DTSTART:20251102T060000
END:STANDARD
BEGIN:DAYLIGHT
TZOFFSETFROM:-0500
TZOFFSETTO:-0400
TZNAME:EDT
DTSTART:20260308T070000
END:DAYLIGHT
BEGIN:STANDARD
TZOFFSETFROM:-0400
TZOFFSETTO:-0500
TZNAME:EST
DTSTART:20261101T060000
END:STANDARD
BEGIN:DAYLIGHT
TZOFFSETFROM:-0500
TZOFFSETTO:-0400
TZNAME:EDT
DTSTART:20270314T070000
END:DAYLIGHT
BEGIN:STANDARD
TZOFFSETFROM:-0400
TZOFFSETTO:-0500
TZNAME:EST
DTSTART:20271107T060000
END:STANDARD
END:VTIMEZONE
BEGIN:VEVENT
DTSTART;VALUE=DATE:20260307
DTEND;VALUE=DATE:20260308
DTSTAMP:20260423T045417
CREATED:20251130T184306Z
LAST-MODIFIED:20251130T184306Z
UID:10005400-1772841600-1772927999@rollinggaitcaninecentre.ca
SUMMARY:Middlesex Agility Club - AAC Trial
DESCRIPTION:Middlesex Agility Club will be hosting a one day trial on March 7th 2026 \nClick here for more information\, premium lists and entry form.
URL:https://rollinggaitcaninecentre.ca/event/middlesex-agility-club-aac-trial/
LOCATION:Indoor Training Arena\, 3431 Eaton Road\, Dorchester\, Ontario\, NoL 1G5\, Canada
ATTACH;FMTTYPE=image/jpeg:https://rollinggaitcaninecentre.ca/wp-content/uploads/2024/11/cropped-MAC-Logo-Vectorized-Colour-scaled-1.jpg
END:VEVENT
END:VCALENDAR