BEGIN:VCALENDAR
VERSION:2.0
PRODID:-//Rolling Gait Canine Centre - ECPv6.15.20//NONSGML v1.0//EN
CALSCALE:GREGORIAN
METHOD:PUBLISH
X-ORIGINAL-URL:https://rollinggaitcaninecentre.ca
X-WR-CALDESC:Events for Rolling Gait Canine Centre
REFRESH-INTERVAL;VALUE=DURATION:PT1H
X-Robots-Tag:noindex
X-PUBLISHED-TTL:PT1H
BEGIN:VTIMEZONE
TZID:America/Toronto
BEGIN:DAYLIGHT
TZOFFSETFROM:-0500
TZOFFSETTO:-0400
TZNAME:EDT
DTSTART:20250309T070000
END:DAYLIGHT
BEGIN:STANDARD
TZOFFSETFROM:-0400
TZOFFSETTO:-0500
TZNAME:EST
DTSTART:20251102T060000
END:STANDARD
BEGIN:DAYLIGHT
TZOFFSETFROM:-0500
TZOFFSETTO:-0400
TZNAME:EDT
DTSTART:20260308T070000
END:DAYLIGHT
BEGIN:STANDARD
TZOFFSETFROM:-0400
TZOFFSETTO:-0500
TZNAME:EST
DTSTART:20261101T060000
END:STANDARD
BEGIN:DAYLIGHT
TZOFFSETFROM:-0500
TZOFFSETTO:-0400
TZNAME:EDT
DTSTART:20270314T070000
END:DAYLIGHT
BEGIN:STANDARD
TZOFFSETFROM:-0400
TZOFFSETTO:-0500
TZNAME:EST
DTSTART:20271107T060000
END:STANDARD
END:VTIMEZONE
BEGIN:VEVENT
DTSTART;VALUE=DATE:20260525
DTEND;VALUE=DATE:20260527
DTSTAMP:20260421T054549
CREATED:20260220T144551Z
LAST-MODIFIED:20260220T144722Z
UID:10005419-1779667200-1779839999@rollinggaitcaninecentre.ca
SUMMARY:Kris Seiter Agility Handling Seminar May 25 and 26
DESCRIPTION:Kris Seiter Agility Handling Seminar. Contact Linda Barton at aimhicoach@gmail.com for more information. \nWebsite
URL:https://rollinggaitcaninecentre.ca/event/kris-seiter-agility-handling-seminar-may-25-and-26/
LOCATION:Indoor Training Arena\, 3431 Eaton Road\, Dorchester\, Ontario\, NoL 1G5\, Canada
CATEGORIES:Events
ATTACH;FMTTYPE=image/avif:https://rollinggaitcaninecentre.ca/wp-content/uploads/2026/02/f706f4_622597c245514c00a4acc644477279d2mv2_d_5573_3720_s_4_2.avif
END:VEVENT
END:VCALENDAR