BEGIN:VCALENDAR
VERSION:2.0
PRODID:-//Rolling Gait Canine Centre - ECPv6.15.20//NONSGML v1.0//EN
CALSCALE:GREGORIAN
METHOD:PUBLISH
X-WR-CALNAME:Rolling Gait Canine Centre
X-ORIGINAL-URL:https://rollinggaitcaninecentre.ca
X-WR-CALDESC:Events for Rolling Gait Canine Centre
REFRESH-INTERVAL;VALUE=DURATION:PT1H
X-Robots-Tag:noindex
X-PUBLISHED-TTL:PT1H
BEGIN:VTIMEZONE
TZID:America/Toronto
BEGIN:DAYLIGHT
TZOFFSETFROM:-0500
TZOFFSETTO:-0400
TZNAME:EDT
DTSTART:20250309T070000
END:DAYLIGHT
BEGIN:STANDARD
TZOFFSETFROM:-0400
TZOFFSETTO:-0500
TZNAME:EST
DTSTART:20251102T060000
END:STANDARD
BEGIN:DAYLIGHT
TZOFFSETFROM:-0500
TZOFFSETTO:-0400
TZNAME:EDT
DTSTART:20260308T070000
END:DAYLIGHT
BEGIN:STANDARD
TZOFFSETFROM:-0400
TZOFFSETTO:-0500
TZNAME:EST
DTSTART:20261101T060000
END:STANDARD
BEGIN:DAYLIGHT
TZOFFSETFROM:-0500
TZOFFSETTO:-0400
TZNAME:EDT
DTSTART:20270314T070000
END:DAYLIGHT
BEGIN:STANDARD
TZOFFSETFROM:-0400
TZOFFSETTO:-0500
TZNAME:EST
DTSTART:20271107T060000
END:STANDARD
END:VTIMEZONE
BEGIN:VEVENT
DTSTART;TZID=America/Toronto:20260421T190000
DTEND;TZID=America/Toronto:20260421T203000
DTSTAMP:20260420T065832
CREATED:20260226T225718Z
LAST-MODIFIED:20260226T225718Z
UID:10005428-1776798000-1776803400@rollinggaitcaninecentre.ca
SUMMARY:Lady with Dogs Classes
DESCRIPTION:Lady with Dogs – Group Classes \nTuesday Evenings \nThe Puppy’s Playbook and The Polished Pooch.  Please follow this link for more information.
URL:https://rollinggaitcaninecentre.ca/event/lady-with-dogs-classes/2026-04-21/
LOCATION:Indoor Training Arena\, 3431 Eaton Road\, Dorchester\, Ontario\, NoL 1G5\, Canada
ATTACH;FMTTYPE=image/png:https://rollinggaitcaninecentre.ca/wp-content/uploads/2026/02/Screenshot-2026-02-26-at-5.56.26-PM.png
END:VEVENT
BEGIN:VEVENT
DTSTART;TZID=America/Toronto:20260428T190000
DTEND;TZID=America/Toronto:20260428T203000
DTSTAMP:20260420T065832
CREATED:20260226T225718Z
LAST-MODIFIED:20260226T225718Z
UID:10005429-1777402800-1777408200@rollinggaitcaninecentre.ca
SUMMARY:Lady with Dogs Classes
DESCRIPTION:Lady with Dogs – Group Classes \nTuesday Evenings \nThe Puppy’s Playbook and The Polished Pooch.  Please follow this link for more information.
URL:https://rollinggaitcaninecentre.ca/event/lady-with-dogs-classes/2026-04-28/
LOCATION:Indoor Training Arena\, 3431 Eaton Road\, Dorchester\, Ontario\, NoL 1G5\, Canada
ATTACH;FMTTYPE=image/png:https://rollinggaitcaninecentre.ca/wp-content/uploads/2026/02/Screenshot-2026-02-26-at-5.56.26-PM.png
END:VEVENT
BEGIN:VEVENT
DTSTART;TZID=America/Toronto:20260505T190000
DTEND;TZID=America/Toronto:20260505T203000
DTSTAMP:20260420T065832
CREATED:20260226T225718Z
LAST-MODIFIED:20260226T225718Z
UID:10005430-1778007600-1778013000@rollinggaitcaninecentre.ca
SUMMARY:Lady with Dogs Classes
DESCRIPTION:Lady with Dogs – Group Classes \nTuesday Evenings \nThe Puppy’s Playbook and The Polished Pooch.  Please follow this link for more information.
URL:https://rollinggaitcaninecentre.ca/event/lady-with-dogs-classes/2026-05-05/
LOCATION:Indoor Training Arena\, 3431 Eaton Road\, Dorchester\, Ontario\, NoL 1G5\, Canada
ATTACH;FMTTYPE=image/png:https://rollinggaitcaninecentre.ca/wp-content/uploads/2026/02/Screenshot-2026-02-26-at-5.56.26-PM.png
END:VEVENT
BEGIN:VEVENT
DTSTART;TZID=America/Toronto:20260512T190000
DTEND;TZID=America/Toronto:20260512T203000
DTSTAMP:20260420T065832
CREATED:20260226T225718Z
LAST-MODIFIED:20260226T225718Z
UID:10005431-1778612400-1778617800@rollinggaitcaninecentre.ca
SUMMARY:Lady with Dogs Classes
DESCRIPTION:Lady with Dogs – Group Classes \nTuesday Evenings \nThe Puppy’s Playbook and The Polished Pooch.  Please follow this link for more information.
URL:https://rollinggaitcaninecentre.ca/event/lady-with-dogs-classes/2026-05-12/
LOCATION:Indoor Training Arena\, 3431 Eaton Road\, Dorchester\, Ontario\, NoL 1G5\, Canada
ATTACH;FMTTYPE=image/png:https://rollinggaitcaninecentre.ca/wp-content/uploads/2026/02/Screenshot-2026-02-26-at-5.56.26-PM.png
END:VEVENT
BEGIN:VEVENT
DTSTART;TZID=America/Toronto:20260519T190000
DTEND;TZID=America/Toronto:20260519T203000
DTSTAMP:20260420T065832
CREATED:20260226T225718Z
LAST-MODIFIED:20260226T225718Z
UID:10005432-1779217200-1779222600@rollinggaitcaninecentre.ca
SUMMARY:Lady with Dogs Classes
DESCRIPTION:Lady with Dogs – Group Classes \nTuesday Evenings \nThe Puppy’s Playbook and The Polished Pooch.  Please follow this link for more information.
URL:https://rollinggaitcaninecentre.ca/event/lady-with-dogs-classes/2026-05-19/
LOCATION:Indoor Training Arena\, 3431 Eaton Road\, Dorchester\, Ontario\, NoL 1G5\, Canada
ATTACH;FMTTYPE=image/png:https://rollinggaitcaninecentre.ca/wp-content/uploads/2026/02/Screenshot-2026-02-26-at-5.56.26-PM.png
END:VEVENT
BEGIN:VEVENT
DTSTART;TZID=America/Toronto:20260526T190000
DTEND;TZID=America/Toronto:20260526T203000
DTSTAMP:20260420T065832
CREATED:20260226T225718Z
LAST-MODIFIED:20260226T225718Z
UID:10005433-1779822000-1779827400@rollinggaitcaninecentre.ca
SUMMARY:Lady with Dogs Classes
DESCRIPTION:Lady with Dogs – Group Classes \nTuesday Evenings \nThe Puppy’s Playbook and The Polished Pooch.  Please follow this link for more information.
URL:https://rollinggaitcaninecentre.ca/event/lady-with-dogs-classes/2026-05-26/
LOCATION:Indoor Training Arena\, 3431 Eaton Road\, Dorchester\, Ontario\, NoL 1G5\, Canada
ATTACH;FMTTYPE=image/png:https://rollinggaitcaninecentre.ca/wp-content/uploads/2026/02/Screenshot-2026-02-26-at-5.56.26-PM.png
END:VEVENT
BEGIN:VEVENT
DTSTART;TZID=America/Toronto:20260602T190000
DTEND;TZID=America/Toronto:20260602T203000
DTSTAMP:20260420T065832
CREATED:20260226T225718Z
LAST-MODIFIED:20260226T225718Z
UID:10005434-1780426800-1780432200@rollinggaitcaninecentre.ca
SUMMARY:Lady with Dogs Classes
DESCRIPTION:Lady with Dogs – Group Classes \nTuesday Evenings \nThe Puppy’s Playbook and The Polished Pooch.  Please follow this link for more information.
URL:https://rollinggaitcaninecentre.ca/event/lady-with-dogs-classes/2026-06-02/
LOCATION:Indoor Training Arena\, 3431 Eaton Road\, Dorchester\, Ontario\, NoL 1G5\, Canada
ATTACH;FMTTYPE=image/png:https://rollinggaitcaninecentre.ca/wp-content/uploads/2026/02/Screenshot-2026-02-26-at-5.56.26-PM.png
END:VEVENT
BEGIN:VEVENT
DTSTART;TZID=America/Toronto:20260609T190000
DTEND;TZID=America/Toronto:20260609T203000
DTSTAMP:20260420T065832
CREATED:20260226T225718Z
LAST-MODIFIED:20260226T225718Z
UID:10005435-1781031600-1781037000@rollinggaitcaninecentre.ca
SUMMARY:Lady with Dogs Classes
DESCRIPTION:Lady with Dogs – Group Classes \nTuesday Evenings \nThe Puppy’s Playbook and The Polished Pooch.  Please follow this link for more information.
URL:https://rollinggaitcaninecentre.ca/event/lady-with-dogs-classes/2026-06-09/
LOCATION:Indoor Training Arena\, 3431 Eaton Road\, Dorchester\, Ontario\, NoL 1G5\, Canada
ATTACH;FMTTYPE=image/png:https://rollinggaitcaninecentre.ca/wp-content/uploads/2026/02/Screenshot-2026-02-26-at-5.56.26-PM.png
END:VEVENT
BEGIN:VEVENT
DTSTART;TZID=America/Toronto:20260616T190000
DTEND;TZID=America/Toronto:20260616T203000
DTSTAMP:20260420T065832
CREATED:20260226T225718Z
LAST-MODIFIED:20260226T225718Z
UID:10005436-1781636400-1781641800@rollinggaitcaninecentre.ca
SUMMARY:Lady with Dogs Classes
DESCRIPTION:Lady with Dogs – Group Classes \nTuesday Evenings \nThe Puppy’s Playbook and The Polished Pooch.  Please follow this link for more information.
URL:https://rollinggaitcaninecentre.ca/event/lady-with-dogs-classes/2026-06-16/
LOCATION:Indoor Training Arena\, 3431 Eaton Road\, Dorchester\, Ontario\, NoL 1G5\, Canada
ATTACH;FMTTYPE=image/png:https://rollinggaitcaninecentre.ca/wp-content/uploads/2026/02/Screenshot-2026-02-26-at-5.56.26-PM.png
END:VEVENT
BEGIN:VEVENT
DTSTART;TZID=America/Toronto:20260623T190000
DTEND;TZID=America/Toronto:20260623T203000
DTSTAMP:20260420T065832
CREATED:20260226T225718Z
LAST-MODIFIED:20260226T225718Z
UID:10005437-1782241200-1782246600@rollinggaitcaninecentre.ca
SUMMARY:Lady with Dogs Classes
DESCRIPTION:Lady with Dogs – Group Classes \nTuesday Evenings \nThe Puppy’s Playbook and The Polished Pooch.  Please follow this link for more information.
URL:https://rollinggaitcaninecentre.ca/event/lady-with-dogs-classes/2026-06-23/
LOCATION:Indoor Training Arena\, 3431 Eaton Road\, Dorchester\, Ontario\, NoL 1G5\, Canada
ATTACH;FMTTYPE=image/png:https://rollinggaitcaninecentre.ca/wp-content/uploads/2026/02/Screenshot-2026-02-26-at-5.56.26-PM.png
END:VEVENT
BEGIN:VEVENT
DTSTART;TZID=America/Toronto:20260630T190000
DTEND;TZID=America/Toronto:20260630T203000
DTSTAMP:20260420T065832
CREATED:20260226T225718Z
LAST-MODIFIED:20260226T225718Z
UID:10005438-1782846000-1782851400@rollinggaitcaninecentre.ca
SUMMARY:Lady with Dogs Classes
DESCRIPTION:Lady with Dogs – Group Classes \nTuesday Evenings \nThe Puppy’s Playbook and The Polished Pooch.  Please follow this link for more information.
URL:https://rollinggaitcaninecentre.ca/event/lady-with-dogs-classes/2026-06-30/
LOCATION:Indoor Training Arena\, 3431 Eaton Road\, Dorchester\, Ontario\, NoL 1G5\, Canada
ATTACH;FMTTYPE=image/png:https://rollinggaitcaninecentre.ca/wp-content/uploads/2026/02/Screenshot-2026-02-26-at-5.56.26-PM.png
END:VEVENT
BEGIN:VEVENT
DTSTART;TZID=America/Toronto:20260707T190000
DTEND;TZID=America/Toronto:20260707T203000
DTSTAMP:20260420T065832
CREATED:20260226T225718Z
LAST-MODIFIED:20260226T225718Z
UID:10005439-1783450800-1783456200@rollinggaitcaninecentre.ca
SUMMARY:Lady with Dogs Classes
DESCRIPTION:Lady with Dogs – Group Classes \nTuesday Evenings \nThe Puppy’s Playbook and The Polished Pooch.  Please follow this link for more information.
URL:https://rollinggaitcaninecentre.ca/event/lady-with-dogs-classes/2026-07-07/
LOCATION:Indoor Training Arena\, 3431 Eaton Road\, Dorchester\, Ontario\, NoL 1G5\, Canada
ATTACH;FMTTYPE=image/png:https://rollinggaitcaninecentre.ca/wp-content/uploads/2026/02/Screenshot-2026-02-26-at-5.56.26-PM.png
END:VEVENT
BEGIN:VEVENT
DTSTART;TZID=America/Toronto:20260714T190000
DTEND;TZID=America/Toronto:20260714T203000
DTSTAMP:20260420T065832
CREATED:20260226T225718Z
LAST-MODIFIED:20260226T225718Z
UID:10005440-1784055600-1784061000@rollinggaitcaninecentre.ca
SUMMARY:Lady with Dogs Classes
DESCRIPTION:Lady with Dogs – Group Classes \nTuesday Evenings \nThe Puppy’s Playbook and The Polished Pooch.  Please follow this link for more information.
URL:https://rollinggaitcaninecentre.ca/event/lady-with-dogs-classes/2026-07-14/
LOCATION:Indoor Training Arena\, 3431 Eaton Road\, Dorchester\, Ontario\, NoL 1G5\, Canada
ATTACH;FMTTYPE=image/png:https://rollinggaitcaninecentre.ca/wp-content/uploads/2026/02/Screenshot-2026-02-26-at-5.56.26-PM.png
END:VEVENT
BEGIN:VEVENT
DTSTART;TZID=America/Toronto:20260721T190000
DTEND;TZID=America/Toronto:20260721T203000
DTSTAMP:20260420T065832
CREATED:20260226T225718Z
LAST-MODIFIED:20260226T225718Z
UID:10005441-1784660400-1784665800@rollinggaitcaninecentre.ca
SUMMARY:Lady with Dogs Classes
DESCRIPTION:Lady with Dogs – Group Classes \nTuesday Evenings \nThe Puppy’s Playbook and The Polished Pooch.  Please follow this link for more information.
URL:https://rollinggaitcaninecentre.ca/event/lady-with-dogs-classes/2026-07-21/
LOCATION:Indoor Training Arena\, 3431 Eaton Road\, Dorchester\, Ontario\, NoL 1G5\, Canada
ATTACH;FMTTYPE=image/png:https://rollinggaitcaninecentre.ca/wp-content/uploads/2026/02/Screenshot-2026-02-26-at-5.56.26-PM.png
END:VEVENT
BEGIN:VEVENT
DTSTART;TZID=America/Toronto:20260728T190000
DTEND;TZID=America/Toronto:20260728T203000
DTSTAMP:20260420T065832
CREATED:20260226T225718Z
LAST-MODIFIED:20260226T225718Z
UID:10005442-1785265200-1785270600@rollinggaitcaninecentre.ca
SUMMARY:Lady with Dogs Classes
DESCRIPTION:Lady with Dogs – Group Classes \nTuesday Evenings \nThe Puppy’s Playbook and The Polished Pooch.  Please follow this link for more information.
URL:https://rollinggaitcaninecentre.ca/event/lady-with-dogs-classes/2026-07-28/
LOCATION:Indoor Training Arena\, 3431 Eaton Road\, Dorchester\, Ontario\, NoL 1G5\, Canada
ATTACH;FMTTYPE=image/png:https://rollinggaitcaninecentre.ca/wp-content/uploads/2026/02/Screenshot-2026-02-26-at-5.56.26-PM.png
END:VEVENT
BEGIN:VEVENT
DTSTART;TZID=America/Toronto:20260804T190000
DTEND;TZID=America/Toronto:20260804T203000
DTSTAMP:20260420T065832
CREATED:20260226T225718Z
LAST-MODIFIED:20260226T225718Z
UID:10005443-1785870000-1785875400@rollinggaitcaninecentre.ca
SUMMARY:Lady with Dogs Classes
DESCRIPTION:Lady with Dogs – Group Classes \nTuesday Evenings \nThe Puppy’s Playbook and The Polished Pooch.  Please follow this link for more information.
URL:https://rollinggaitcaninecentre.ca/event/lady-with-dogs-classes/2026-08-04/
LOCATION:Indoor Training Arena\, 3431 Eaton Road\, Dorchester\, Ontario\, NoL 1G5\, Canada
ATTACH;FMTTYPE=image/png:https://rollinggaitcaninecentre.ca/wp-content/uploads/2026/02/Screenshot-2026-02-26-at-5.56.26-PM.png
END:VEVENT
BEGIN:VEVENT
DTSTART;TZID=America/Toronto:20260811T190000
DTEND;TZID=America/Toronto:20260811T203000
DTSTAMP:20260420T065832
CREATED:20260226T225718Z
LAST-MODIFIED:20260226T225718Z
UID:10005444-1786474800-1786480200@rollinggaitcaninecentre.ca
SUMMARY:Lady with Dogs Classes
DESCRIPTION:Lady with Dogs – Group Classes \nTuesday Evenings \nThe Puppy’s Playbook and The Polished Pooch.  Please follow this link for more information.
URL:https://rollinggaitcaninecentre.ca/event/lady-with-dogs-classes/2026-08-11/
LOCATION:Indoor Training Arena\, 3431 Eaton Road\, Dorchester\, Ontario\, NoL 1G5\, Canada
ATTACH;FMTTYPE=image/png:https://rollinggaitcaninecentre.ca/wp-content/uploads/2026/02/Screenshot-2026-02-26-at-5.56.26-PM.png
END:VEVENT
BEGIN:VEVENT
DTSTART;TZID=America/Toronto:20260818T190000
DTEND;TZID=America/Toronto:20260818T203000
DTSTAMP:20260420T065832
CREATED:20260226T225718Z
LAST-MODIFIED:20260226T225718Z
UID:10005445-1787079600-1787085000@rollinggaitcaninecentre.ca
SUMMARY:Lady with Dogs Classes
DESCRIPTION:Lady with Dogs – Group Classes \nTuesday Evenings \nThe Puppy’s Playbook and The Polished Pooch.  Please follow this link for more information.
URL:https://rollinggaitcaninecentre.ca/event/lady-with-dogs-classes/2026-08-18/
LOCATION:Indoor Training Arena\, 3431 Eaton Road\, Dorchester\, Ontario\, NoL 1G5\, Canada
ATTACH;FMTTYPE=image/png:https://rollinggaitcaninecentre.ca/wp-content/uploads/2026/02/Screenshot-2026-02-26-at-5.56.26-PM.png
END:VEVENT
BEGIN:VEVENT
DTSTART;TZID=America/Toronto:20260825T190000
DTEND;TZID=America/Toronto:20260825T203000
DTSTAMP:20260420T065832
CREATED:20260226T225718Z
LAST-MODIFIED:20260226T225718Z
UID:10005446-1787684400-1787689800@rollinggaitcaninecentre.ca
SUMMARY:Lady with Dogs Classes
DESCRIPTION:Lady with Dogs – Group Classes \nTuesday Evenings \nThe Puppy’s Playbook and The Polished Pooch.  Please follow this link for more information.
URL:https://rollinggaitcaninecentre.ca/event/lady-with-dogs-classes/2026-08-25/
LOCATION:Indoor Training Arena\, 3431 Eaton Road\, Dorchester\, Ontario\, NoL 1G5\, Canada
ATTACH;FMTTYPE=image/png:https://rollinggaitcaninecentre.ca/wp-content/uploads/2026/02/Screenshot-2026-02-26-at-5.56.26-PM.png
END:VEVENT
BEGIN:VEVENT
DTSTART;TZID=America/Toronto:20260901T190000
DTEND;TZID=America/Toronto:20260901T203000
DTSTAMP:20260420T065832
CREATED:20260226T225718Z
LAST-MODIFIED:20260226T225718Z
UID:10005447-1788289200-1788294600@rollinggaitcaninecentre.ca
SUMMARY:Lady with Dogs Classes
DESCRIPTION:Lady with Dogs – Group Classes \nTuesday Evenings \nThe Puppy’s Playbook and The Polished Pooch.  Please follow this link for more information.
URL:https://rollinggaitcaninecentre.ca/event/lady-with-dogs-classes/2026-09-01/
LOCATION:Indoor Training Arena\, 3431 Eaton Road\, Dorchester\, Ontario\, NoL 1G5\, Canada
ATTACH;FMTTYPE=image/png:https://rollinggaitcaninecentre.ca/wp-content/uploads/2026/02/Screenshot-2026-02-26-at-5.56.26-PM.png
END:VEVENT
BEGIN:VEVENT
DTSTART;TZID=America/Toronto:20260908T190000
DTEND;TZID=America/Toronto:20260908T203000
DTSTAMP:20260420T065832
CREATED:20260226T225718Z
LAST-MODIFIED:20260226T225718Z
UID:10005448-1788894000-1788899400@rollinggaitcaninecentre.ca
SUMMARY:Lady with Dogs Classes
DESCRIPTION:Lady with Dogs – Group Classes \nTuesday Evenings \nThe Puppy’s Playbook and The Polished Pooch.  Please follow this link for more information.
URL:https://rollinggaitcaninecentre.ca/event/lady-with-dogs-classes/2026-09-08/
LOCATION:Indoor Training Arena\, 3431 Eaton Road\, Dorchester\, Ontario\, NoL 1G5\, Canada
ATTACH;FMTTYPE=image/png:https://rollinggaitcaninecentre.ca/wp-content/uploads/2026/02/Screenshot-2026-02-26-at-5.56.26-PM.png
END:VEVENT
BEGIN:VEVENT
DTSTART;TZID=America/Toronto:20260915T190000
DTEND;TZID=America/Toronto:20260915T203000
DTSTAMP:20260420T065832
CREATED:20260226T225718Z
LAST-MODIFIED:20260226T225718Z
UID:10005449-1789498800-1789504200@rollinggaitcaninecentre.ca
SUMMARY:Lady with Dogs Classes
DESCRIPTION:Lady with Dogs – Group Classes \nTuesday Evenings \nThe Puppy’s Playbook and The Polished Pooch.  Please follow this link for more information.
URL:https://rollinggaitcaninecentre.ca/event/lady-with-dogs-classes/2026-09-15/
LOCATION:Indoor Training Arena\, 3431 Eaton Road\, Dorchester\, Ontario\, NoL 1G5\, Canada
ATTACH;FMTTYPE=image/png:https://rollinggaitcaninecentre.ca/wp-content/uploads/2026/02/Screenshot-2026-02-26-at-5.56.26-PM.png
END:VEVENT
BEGIN:VEVENT
DTSTART;TZID=America/Toronto:20260922T190000
DTEND;TZID=America/Toronto:20260922T203000
DTSTAMP:20260420T065832
CREATED:20260226T225718Z
LAST-MODIFIED:20260226T225718Z
UID:10005450-1790103600-1790109000@rollinggaitcaninecentre.ca
SUMMARY:Lady with Dogs Classes
DESCRIPTION:Lady with Dogs – Group Classes \nTuesday Evenings \nThe Puppy’s Playbook and The Polished Pooch.  Please follow this link for more information.
URL:https://rollinggaitcaninecentre.ca/event/lady-with-dogs-classes/2026-09-22/
LOCATION:Indoor Training Arena\, 3431 Eaton Road\, Dorchester\, Ontario\, NoL 1G5\, Canada
ATTACH;FMTTYPE=image/png:https://rollinggaitcaninecentre.ca/wp-content/uploads/2026/02/Screenshot-2026-02-26-at-5.56.26-PM.png
END:VEVENT
BEGIN:VEVENT
DTSTART;TZID=America/Toronto:20260929T190000
DTEND;TZID=America/Toronto:20260929T203000
DTSTAMP:20260420T065832
CREATED:20260226T225718Z
LAST-MODIFIED:20260226T225718Z
UID:10005451-1790708400-1790713800@rollinggaitcaninecentre.ca
SUMMARY:Lady with Dogs Classes
DESCRIPTION:Lady with Dogs – Group Classes \nTuesday Evenings \nThe Puppy’s Playbook and The Polished Pooch.  Please follow this link for more information.
URL:https://rollinggaitcaninecentre.ca/event/lady-with-dogs-classes/2026-09-29/
LOCATION:Indoor Training Arena\, 3431 Eaton Road\, Dorchester\, Ontario\, NoL 1G5\, Canada
ATTACH;FMTTYPE=image/png:https://rollinggaitcaninecentre.ca/wp-content/uploads/2026/02/Screenshot-2026-02-26-at-5.56.26-PM.png
END:VEVENT
BEGIN:VEVENT
DTSTART;TZID=America/Toronto:20261006T190000
DTEND;TZID=America/Toronto:20261006T203000
DTSTAMP:20260420T065832
CREATED:20260226T225718Z
LAST-MODIFIED:20260226T225718Z
UID:10005452-1791313200-1791318600@rollinggaitcaninecentre.ca
SUMMARY:Lady with Dogs Classes
DESCRIPTION:Lady with Dogs – Group Classes \nTuesday Evenings \nThe Puppy’s Playbook and The Polished Pooch.  Please follow this link for more information.
URL:https://rollinggaitcaninecentre.ca/event/lady-with-dogs-classes/2026-10-06/
LOCATION:Indoor Training Arena\, 3431 Eaton Road\, Dorchester\, Ontario\, NoL 1G5\, Canada
ATTACH;FMTTYPE=image/png:https://rollinggaitcaninecentre.ca/wp-content/uploads/2026/02/Screenshot-2026-02-26-at-5.56.26-PM.png
END:VEVENT
BEGIN:VEVENT
DTSTART;TZID=America/Toronto:20261013T190000
DTEND;TZID=America/Toronto:20261013T203000
DTSTAMP:20260420T065832
CREATED:20260226T225718Z
LAST-MODIFIED:20260226T225718Z
UID:10005453-1791918000-1791923400@rollinggaitcaninecentre.ca
SUMMARY:Lady with Dogs Classes
DESCRIPTION:Lady with Dogs – Group Classes \nTuesday Evenings \nThe Puppy’s Playbook and The Polished Pooch.  Please follow this link for more information.
URL:https://rollinggaitcaninecentre.ca/event/lady-with-dogs-classes/2026-10-13/
LOCATION:Indoor Training Arena\, 3431 Eaton Road\, Dorchester\, Ontario\, NoL 1G5\, Canada
ATTACH;FMTTYPE=image/png:https://rollinggaitcaninecentre.ca/wp-content/uploads/2026/02/Screenshot-2026-02-26-at-5.56.26-PM.png
END:VEVENT
BEGIN:VEVENT
DTSTART;TZID=America/Toronto:20261020T190000
DTEND;TZID=America/Toronto:20261020T203000
DTSTAMP:20260420T065832
CREATED:20260226T225718Z
LAST-MODIFIED:20260226T225718Z
UID:10005454-1792522800-1792528200@rollinggaitcaninecentre.ca
SUMMARY:Lady with Dogs Classes
DESCRIPTION:Lady with Dogs – Group Classes \nTuesday Evenings \nThe Puppy’s Playbook and The Polished Pooch.  Please follow this link for more information.
URL:https://rollinggaitcaninecentre.ca/event/lady-with-dogs-classes/2026-10-20/
LOCATION:Indoor Training Arena\, 3431 Eaton Road\, Dorchester\, Ontario\, NoL 1G5\, Canada
ATTACH;FMTTYPE=image/png:https://rollinggaitcaninecentre.ca/wp-content/uploads/2026/02/Screenshot-2026-02-26-at-5.56.26-PM.png
END:VEVENT
BEGIN:VEVENT
DTSTART;TZID=America/Toronto:20261027T190000
DTEND;TZID=America/Toronto:20261027T203000
DTSTAMP:20260420T065832
CREATED:20260226T225718Z
LAST-MODIFIED:20260226T225718Z
UID:10005455-1793127600-1793133000@rollinggaitcaninecentre.ca
SUMMARY:Lady with Dogs Classes
DESCRIPTION:Lady with Dogs – Group Classes \nTuesday Evenings \nThe Puppy’s Playbook and The Polished Pooch.  Please follow this link for more information.
URL:https://rollinggaitcaninecentre.ca/event/lady-with-dogs-classes/2026-10-27/
LOCATION:Indoor Training Arena\, 3431 Eaton Road\, Dorchester\, Ontario\, NoL 1G5\, Canada
ATTACH;FMTTYPE=image/png:https://rollinggaitcaninecentre.ca/wp-content/uploads/2026/02/Screenshot-2026-02-26-at-5.56.26-PM.png
END:VEVENT
BEGIN:VEVENT
DTSTART;TZID=America/Toronto:20261103T190000
DTEND;TZID=America/Toronto:20261103T203000
DTSTAMP:20260420T065832
CREATED:20260226T225718Z
LAST-MODIFIED:20260226T225718Z
UID:10005456-1793732400-1793737800@rollinggaitcaninecentre.ca
SUMMARY:Lady with Dogs Classes
DESCRIPTION:Lady with Dogs – Group Classes \nTuesday Evenings \nThe Puppy’s Playbook and The Polished Pooch.  Please follow this link for more information.
URL:https://rollinggaitcaninecentre.ca/event/lady-with-dogs-classes/2026-11-03/
LOCATION:Indoor Training Arena\, 3431 Eaton Road\, Dorchester\, Ontario\, NoL 1G5\, Canada
ATTACH;FMTTYPE=image/png:https://rollinggaitcaninecentre.ca/wp-content/uploads/2026/02/Screenshot-2026-02-26-at-5.56.26-PM.png
END:VEVENT
BEGIN:VEVENT
DTSTART;TZID=America/Toronto:20261110T190000
DTEND;TZID=America/Toronto:20261110T203000
DTSTAMP:20260420T065832
CREATED:20260226T225718Z
LAST-MODIFIED:20260226T225718Z
UID:10005457-1794337200-1794342600@rollinggaitcaninecentre.ca
SUMMARY:Lady with Dogs Classes
DESCRIPTION:Lady with Dogs – Group Classes \nTuesday Evenings \nThe Puppy’s Playbook and The Polished Pooch.  Please follow this link for more information.
URL:https://rollinggaitcaninecentre.ca/event/lady-with-dogs-classes/2026-11-10/
LOCATION:Indoor Training Arena\, 3431 Eaton Road\, Dorchester\, Ontario\, NoL 1G5\, Canada
ATTACH;FMTTYPE=image/png:https://rollinggaitcaninecentre.ca/wp-content/uploads/2026/02/Screenshot-2026-02-26-at-5.56.26-PM.png
END:VEVENT
END:VCALENDAR